BEGIN:VCALENDAR
PRODID:-//Pixl8//Eventfolio//EN
VERSION:2.0
X-WR-TIMEZONE:Europe/London
CALSCALE:GREGORIAN
METHOD:PUBLISH
CLASS:PUBLIC
BEGIN:VTIMEZONE
TZID:Europe/London
LAST-MODIFIED:20260306T231828Z
TZURL:https://www.tzurl.org/zoneinfo-outlook/Europe/London
X-LIC-LOCATION:Europe/London
BEGIN:DAYLIGHT
TZNAME:BST
TZOFFSETFROM:+0000
TZOFFSETTO:+0100
DTSTART:19700329T010000
RRULE:FREQ=YEARLY;BYMONTH=3;BYDAY=-1SU
END:DAYLIGHT
BEGIN:STANDARD
TZNAME:GMT
TZOFFSETFROM:+0100
TZOFFSETTO:+0000
DTSTART:19701025T020000
RRULE:FREQ=YEARLY;BYMONTH=10;BYDAY=-1SU
END:STANDARD
END:VTIMEZONE
BEGIN:VEVENT
DTSTART;TZID=Europe/London:20240503T093000
DTEND;TZID=Europe/London:20240503T151500
DTSTAMP:20260420T052424Z
UID:{8E6FF351-9590-4570-919E34A5C2D0684C}
LOCATION:Queen Mary University of London\, Colette Bowe Room\, Queen’s Building\, 327 Mile End Road\, London
SUMMARY:GIM SIG: Mobilising Change for Workplace Equality
DESCRIPTION:We invite you to join us for this exciting (in person) event hosted by the Centre for Research in Equality and Diversity (CRED) at Queen Mary University’s School of Business and Management, and the Gender in Management Special Interest Group of the British Academy of Management.\n
 \n
 Event details: https://www.bam.ac.uk/events-landing/ems-event-calendar/gim-sig-mobilising-change-for-workplace-equality.html
PRIORITY:1
END:VEVENT
END:VCALENDAR