BEGIN:VCALENDAR
PRODID:-//Pixl8//Eventfolio//EN
VERSION:2.0
X-WR-TIMEZONE:Europe/London
CALSCALE:GREGORIAN
METHOD:PUBLISH
CLASS:PUBLIC
BEGIN:VTIMEZONE
TZID:Europe/London
LAST-MODIFIED:20260306T231828Z
TZURL:https://www.tzurl.org/zoneinfo-outlook/Europe/London
X-LIC-LOCATION:Europe/London
BEGIN:DAYLIGHT
TZNAME:BST
TZOFFSETFROM:+0000
TZOFFSETTO:+0100
DTSTART:19700329T010000
RRULE:FREQ=YEARLY;BYMONTH=3;BYDAY=-1SU
END:DAYLIGHT
BEGIN:STANDARD
TZNAME:GMT
TZOFFSETFROM:+0100
TZOFFSETTO:+0000
DTSTART:19701025T020000
RRULE:FREQ=YEARLY;BYMONTH=10;BYDAY=-1SU
END:STANDARD
END:VTIMEZONE
BEGIN:VEVENT
DTSTART;TZID=Europe/London:20210728T140000
DTEND;TZID=Europe/London:20210728T160000
DTSTAMP:20260420T070405Z
UID:{94B9B6B1-97F1-4E6B-A36EC78E9C774A2D}
LOCATION:Teams
SUMMARY:Historical Methods for Management Scholars
DESCRIPTION:In this webinar we will introduce participants to the basics of historical research methods and focus on how business and management scholars have integrated historical evidence and archival sources in their research.\n
 \n
 Event details: https://www.bam.ac.uk/events-landing/ems-event-calendar/historical-methods-for-management-scholars.html
PRIORITY:1
END:VEVENT
END:VCALENDAR