BEGIN:VCALENDAR
PRODID:-//Pixl8//Eventfolio//EN
VERSION:2.0
X-WR-TIMEZONE:Europe/London
CALSCALE:GREGORIAN
METHOD:PUBLISH
CLASS:PUBLIC
BEGIN:VTIMEZONE
TZID:Europe/London
LAST-MODIFIED:20260306T231828Z
TZURL:https://www.tzurl.org/zoneinfo-outlook/Europe/London
X-LIC-LOCATION:Europe/London
BEGIN:DAYLIGHT
TZNAME:BST
TZOFFSETFROM:+0000
TZOFFSETTO:+0100
DTSTART:19700329T010000
RRULE:FREQ=YEARLY;BYMONTH=3;BYDAY=-1SU
END:DAYLIGHT
BEGIN:STANDARD
TZNAME:GMT
TZOFFSETFROM:+0100
TZOFFSETTO:+0000
DTSTART:19701025T020000
RRULE:FREQ=YEARLY;BYMONTH=10;BYDAY=-1SU
END:STANDARD
END:VTIMEZONE
BEGIN:VEVENT
DTSTART;TZID=Europe/London:20220329T113000
DTEND;TZID=Europe/London:20220329T133000
DTSTAMP:20260419T180836Z
UID:{DF4B17CF-148E-4483-A6A4EE36505DFD79}
LOCATION:Teams
SUMMARY:Leading in Crisis: a focus on Higher Education
DESCRIPTION:This workshop will provide theoretical and practical discussion of leading in crisis in research and teaching within the context of HE. It welcomes active discussion around the topic with reflective analysis at the personal and organisational level.\n
 \n
 Event details: https://www.bam.ac.uk/events-landing/ems-event-calendar/leading-in-crisis-a-focus-on-higher-education.html
PRIORITY:1
END:VEVENT
END:VCALENDAR