BEGIN:VCALENDAR
PRODID:-//Pixl8//Eventfolio//EN
VERSION:2.0
X-WR-TIMEZONE:Europe/London
CALSCALE:GREGORIAN
METHOD:PUBLISH
CLASS:PUBLIC
BEGIN:VTIMEZONE
TZID:Europe/London
LAST-MODIFIED:20260306T231828Z
TZURL:https://www.tzurl.org/zoneinfo-outlook/Europe/London
X-LIC-LOCATION:Europe/London
BEGIN:DAYLIGHT
TZNAME:BST
TZOFFSETFROM:+0000
TZOFFSETTO:+0100
DTSTART:19700329T010000
RRULE:FREQ=YEARLY;BYMONTH=3;BYDAY=-1SU
END:DAYLIGHT
BEGIN:STANDARD
TZNAME:GMT
TZOFFSETFROM:+0100
TZOFFSETTO:+0000
DTSTART:19701025T020000
RRULE:FREQ=YEARLY;BYMONTH=10;BYDAY=-1SU
END:STANDARD
END:VTIMEZONE
BEGIN:VEVENT
DTSTART;TZID=Europe/London:20220420T140000
DTEND;TZID=Europe/London:20220420T153000
DTSTAMP:20260420T125705Z
UID:{E3C0CA86-0828-416D-B82BF0B39E90B040}
LOCATION:Teams
SUMMARY:Sample Selection in Systematic Lit. Reviews of Management Research (AACCB)
DESCRIPTION:Systematic review methods are becoming the "new normal" in literature reviews of management research. However, there is not yet much advice on how to organize sample selection in such reviews. This BAM event aims to shed light on sample selection.\n
 \n
 Event details: https://www.bam.ac.uk/events-landing/ems-event-calendar/sample-selection-in-systematic-lit-reviews-of-management-research-aaccb.html
PRIORITY:1
END:VEVENT
END:VCALENDAR