BEGIN:VCALENDAR
PRODID:-//Pixl8//Eventfolio//EN
VERSION:2.0
X-WR-TIMEZONE:Europe/London
CALSCALE:GREGORIAN
METHOD:PUBLISH
CLASS:PUBLIC
BEGIN:VTIMEZONE
TZID:Europe/London
LAST-MODIFIED:20260306T231828Z
TZURL:https://www.tzurl.org/zoneinfo-outlook/Europe/London
X-LIC-LOCATION:Europe/London
BEGIN:DAYLIGHT
TZNAME:BST
TZOFFSETFROM:+0000
TZOFFSETTO:+0100
DTSTART:19700329T010000
RRULE:FREQ=YEARLY;BYMONTH=3;BYDAY=-1SU
END:DAYLIGHT
BEGIN:STANDARD
TZNAME:GMT
TZOFFSETFROM:+0100
TZOFFSETTO:+0000
DTSTART:19701025T020000
RRULE:FREQ=YEARLY;BYMONTH=10;BYDAY=-1SU
END:STANDARD
END:VTIMEZONE
BEGIN:VEVENT
DTSTART;TZID=Europe/London:20230630T140000
DTEND;TZID=Europe/London:20230630T163000
DTSTAMP:20260420T070534Z
UID:{FFC2912C-FE86-4E3B-90437F20FF24FD08}
LOCATION:Online
SUMMARY:Using Appreciative Inquiry (AI) in Business Research
DESCRIPTION:Appreciative Inquiry (AI) is an alternative way to approach research questions, such that they are not ‘problematised’. AI starts the research not from the point of problem solving but from a continuous improvement perspective – what’s going well and how can we emulate that elsewhere? This session will introduce the approach, give some examples of AI in action and allow participants to experiment with applying it to their own research.\n
 \n
 Event details: https://www.bam.ac.uk/events-landing/ems-event-calendar/using-appreciative-inquiry-ai-in-business-research.html
PRIORITY:1
END:VEVENT
END:VCALENDAR