BEGIN:VCALENDAR
PRODID:-//Pixl8//Eventfolio//EN
VERSION:2.0
X-WR-TIMEZONE:Europe/London
CALSCALE:GREGORIAN
METHOD:PUBLISH
CLASS:PUBLIC
BEGIN:VTIMEZONE
TZID:Europe/London
LAST-MODIFIED:20260306T231828Z
TZURL:https://www.tzurl.org/zoneinfo-outlook/Europe/London
X-LIC-LOCATION:Europe/London
BEGIN:DAYLIGHT
TZNAME:BST
TZOFFSETFROM:+0000
TZOFFSETTO:+0100
DTSTART:19700329T010000
RRULE:FREQ=YEARLY;BYMONTH=3;BYDAY=-1SU
END:DAYLIGHT
BEGIN:STANDARD
TZNAME:GMT
TZOFFSETFROM:+0100
TZOFFSETTO:+0000
DTSTART:19701025T020000
RRULE:FREQ=YEARLY;BYMONTH=10;BYDAY=-1SU
END:STANDARD
END:VTIMEZONE
BEGIN:VEVENT
DTSTART;TZID=Europe/London:20210611T090000
DTEND;TZID=Europe/London:20210611T173000
DTSTAMP:20260420T091351Z
UID:{99745F90-9A19-4E3A-8E65E311A7708BC4}
LOCATION:Teams
SUMMARY:Writing with resilience – virtual writing retreat
DESCRIPTION:Writing up research is a lonely process, even more so as we struggle to maintain relationships during a global pandemic. Writing retreats are a great way to share the experience with other colleagues in a productive and meaningful way. The session is targeted at PhD and ECR members of our community - those who are starting out their journey as an opportunity to build good writing practices which will serve them over the course of their career.&nbsp;\n
 \n
 Event details: https://www.bam.ac.uk/events-landing/ems-event-calendar/writing-with-resilience-virtual-writing-retreat.html
PRIORITY:1
END:VEVENT
END:VCALENDAR